BEGIN:VCALENDAR
VERSION:2.0
PRODID:-//InvisionCommunity Events 4.7.20//EN
METHOD:PUBLISH
CALSCALE:GREGORIAN
REFRESH-INTERVAL:PT15M
X-PUBLISHED-TTL:PT15M
X-WR-CALNAME:Все календари - RACE.WARMD.NET
NAME:Все календари - RACE.WARMD.NET
BEGIN:VTIMEZONE
TZID:Europe/London
TZURL:http://tzurl.org/zoneinfo/Europe/London
X-LIC-LOCATION:Europe/London
BEGIN:DAYLIGHT
TZOFFSETFROM:+0000
TZOFFSETTO:+0100
TZNAME:BST
DTSTART:20260329T020000Z
RRULE:FREQ=YEARLY;BYMONTH=3;BYDAY=-1SU
END:DAYLIGHT
BEGIN:STANDARD
TZOFFSETFROM:+0100
TZOFFSETTO:+0000
TZNAME:GMT
DTSTART:20261025T020000Z
RRULE:FREQ=YEARLY;BYMONTH=10;BYDAY=-1SU
END:STANDARD
END:VTIMEZONE
BEGIN:VTIMEZONE
TZID:Europe/London
TZURL:http://tzurl.org/zoneinfo/Europe/London
X-LIC-LOCATION:Europe/London
BEGIN:DAYLIGHT
TZOFFSETFROM:+0000
TZOFFSETTO:+0100
TZNAME:BST
DTSTART:20250330T020000Z
RRULE:FREQ=YEARLY;BYMONTH=3;BYDAY=-1SU
END:DAYLIGHT
BEGIN:STANDARD
TZOFFSETFROM:+0100
TZOFFSETTO:+0000
TZNAME:GMT
DTSTART:20251026T020000Z
RRULE:FREQ=YEARLY;BYMONTH=10;BYDAY=-1SU
END:STANDARD
END:VTIMEZONE
BEGIN:VEVENT
SUMMARY:RaceRoom - WTCC / Zandvoort
DTSTAMP:20250625T124124Z
SEQUENCE:0
UID:2-1-0c35a8652d53c20e153f3380a7a56d3d@www.race.warmd.net
ORGANIZER;CN="Validamar":validamar@gmail.com
DESCRIPTION:\n	Этап: ФАН\n	Автомобили: WTCC\n
		Трасса: Zandvoort\n	День: 23.01.2026\n	Время начала:
	 19:00 (MD)\, 20:00 (MSK)\n	Практика: 20 мин.\
	n	Квалификация: 10 мин.\n	Разогр
	ев: 2 мин.\n	Протяженность: 20
	 мин\n\n\n\n	Гонка 1:
	 старт с ме
	ста (Рас
	положение ав
	томобилей на ст
	артовой решётке 
	— согласно квалификаци
	и)\n\n	Гонка 2: старт реверс первых 8 машин\n
	\n	Пит-стоп: нет\n\n
DTSTART:20260123T170000Z
END:VEVENT
BEGIN:VEVENT
SUMMARY:AC - BTCC 21 / Zandvoort 3
DTSTAMP:20250701T155618Z
SEQUENCE:0
UID:4-1-0c35a8652d53c20e153f3380a7a56d3d@www.race.warmd.net
ORGANIZER;CN="Validamar":validamar@gmail.com
DESCRIPTION:\n	Этап: 3\n	Автомобили: BTCC 21\n	Т
	расса: Zandvoort\n	День: 29.07.2025\n	Время начала: 20
	:00 (MD)\, 20:00 (MSK)\n	Практика: 20 мин.
	\n	Квалификация: 5 мин.\n	Ра
	зогрев: 2 мин.\n	Протяж
	енность: 25 мин.\n
		Гонка: стар
	т с места 
	(Расположен
	ие автомобилей
	 на стартовой ре
	шётке — согласно
	 квалификации)\n	Пит
	-стоп: 1 (Пилоты обязаны выполнить:
	 замена всех шин)\n\n
DTSTART:20250930T160000Z
DTEND:20250930T205300Z
END:VEVENT
BEGIN:VEVENT
SUMMARY:AC - BTCC 21 / Zandvoort
DTSTAMP:20250625T124219Z
SEQUENCE:0
UID:3-1-0c35a8652d53c20e153f3380a7a56d3d@www.race.warmd.net
ORGANIZER;CN="Validamar":validamar@gmail.com
DESCRIPTION:\n	Этап: 1\n	Автомобили: BTCC 21\n	Т
	расса: Zandvoort\n	День: 05.08.2025\n	Время начала: 20
	:00 (MD)\, 20:00 (MSK)\n	Практика: 20 мин.
	\n	Квалификация: 5 мин.\n	Ра
	зогрев: 2 мин.\n	Протяж
	енность: 25 мин.\n
		Гонка: стар
	т с места 
	(Расположен
	ие автомобилей
	 на стартовой ре
	шётке — согласно
	 квалификации)\n	Пит
	-стоп: 1 (Пилоты обязаны выполнить:
	 замена всех шин)\n\n
DTSTART:20250922T160000Z
DTEND:20250922T205600Z
END:VEVENT
BEGIN:VEVENT
SUMMARY:AC - BTCC 21 / Zandvoort
DTSTAMP:20250621T084539Z
SEQUENCE:0
UID:1-1-0c35a8652d53c20e153f3380a7a56d3d@www.race.warmd.net
ORGANIZER;CN="Validamar":validamar@gmail.com
DESCRIPTION:\n	Этап: 1\n\n	Автомобили: BTCC 21\n\n	Т
	расса: Zandvoort\n\n	День: 24.06.2025\n\n	Время начала
	: 20:00 (MD)\, 20:00 (MSK)\n\n	Практика: 20 мин.
	\n\n	Квалификация: 5 мин.\n\n	Ра
	зогрев: 2 мин.\n\n	Протяжен
	ность: 25 мин.\n\n	Г
	онка: старт
	 с места (
	Расположени
	е автомобилей н
	а стартовой решёт
	ке — согласно квал
	ификации)\n\n	Пит-стоп: 1
	 (Пилоты обязаны выполнить: замена всех
	 шин)\n\n
DTSTART;VALUE=DATE:20250624
END:VEVENT
END:VCALENDAR
